BEGIN:VCALENDAR
VERSION:2.0
PRODID:-//Contec AQS - ECPv6.13.2.1//NONSGML v1.0//EN
CALSCALE:GREGORIAN
METHOD:PUBLISH
X-WR-CALNAME:Contec AQS
X-ORIGINAL-URL:https://contecaqs.it
X-WR-CALDESC:Eventi per Contec AQS
REFRESH-INTERVAL;VALUE=DURATION:PT1H
X-Robots-Tag:noindex
X-PUBLISHED-TTL:PT1H
BEGIN:VTIMEZONE
TZID:Europe/Rome
BEGIN:DAYLIGHT
TZOFFSETFROM:+0100
TZOFFSETTO:+0200
TZNAME:CEST
DTSTART:20250330T010000
END:DAYLIGHT
BEGIN:STANDARD
TZOFFSETFROM:+0200
TZOFFSETTO:+0100
TZNAME:CET
DTSTART:20251026T010000
END:STANDARD
END:VTIMEZONE
BEGIN:VEVENT
DTSTART;TZID=Europe/Rome:20250508T113000
DTEND;TZID=Europe/Rome:20250508T130000
DTSTAMP:20260421T203333
CREATED:20250429T095444Z
LAST-MODIFIED:20250429T100748Z
UID:21010-1746703800-1746709200@contecaqs.it
SUMMARY:Webinar AQS Solutions - Safety Appeal: tecniche di comunicazione interattiva per la sicurezza sul lavoro
DESCRIPTION:Strumenti innovativi per migliorare la percezione della sicurezza sul lavoro\nComunicare efficacemente la sicurezza è essenziale per coinvolgere i lavoratori e ridurre i rischi. \nQuesto webinar approfondisce le tecniche di comunicazione interattiva e persuasiva per rafforzare la cultura della sicurezza in azienda. Federico Palombarini e Elena Guzzonato illustreranno strategie pratiche per rendere la formazione più coinvolgente ed efficace. \nOrario: 11.30-13.00 \nEvento Gratuito \n 
URL:https://contecaqs.it/eventi/webinar-aqs-solutions-safety-appeal-tecniche-di-comunicazione-interattiva/
LOCATION:Online
ATTACH;FMTTYPE=image/jpeg:https://contecaqs.it/wp-content/uploads/2025/03/fede_scheda-scaled.jpg
END:VEVENT
END:VCALENDAR