BEGIN:VCALENDAR
VERSION:2.0
PRODID:-//Contec AQS - ECPv6.13.2.1//NONSGML v1.0//EN
CALSCALE:GREGORIAN
METHOD:PUBLISH
X-ORIGINAL-URL:https://contecaqs.it
X-WR-CALDESC:Eventi per Contec AQS
REFRESH-INTERVAL;VALUE=DURATION:PT1H
X-Robots-Tag:noindex
X-PUBLISHED-TTL:PT1H
BEGIN:VTIMEZONE
TZID:Europe/Rome
BEGIN:DAYLIGHT
TZOFFSETFROM:+0100
TZOFFSETTO:+0200
TZNAME:CEST
DTSTART:20250330T010000
END:DAYLIGHT
BEGIN:STANDARD
TZOFFSETFROM:+0200
TZOFFSETTO:+0100
TZNAME:CET
DTSTART:20251026T010000
END:STANDARD
END:VTIMEZONE
BEGIN:VEVENT
DTSTART;TZID=Europe/Rome:20250610T080000
DTEND;TZID=Europe/Rome:20250612T170000
DTSTAMP:20260420T212807
CREATED:20250513T101307Z
LAST-MODIFIED:20250616T132254Z
UID:21283-1749542400-1749747600@contecaqs.it
SUMMARY:Contec AQS – AMBIENTE LAVORO 2025
DESCRIPTION:Contec AQS torna ad Ambiente Lavoro 2025\, la più importante manifestazione italiana dedicata alla salute e sicurezza sul lavoro\, giunta alla sua 35ª edizione. \nQuest’anno l’evento pone l’accento su due temi chiave per il futuro della prevenzione:🔹 DPI di nuova generazione – tecnologie evolute per rispondere ai rischi tradizionali ed emergenti🔹 Benessere nei luoghi di lavoro – approcci integrati per promuovere salute\, motivazione e qualità della vita lavorativa \nAl nostro stand troverai: \n\n\nSoluzioni concrete per la gestione integrata della sicurezza \n\n\nSpunti pratici per rafforzare prevenzione\, compliance e cultura aziendale \n\n\nOccasioni di confronto e aggiornamento con altri professionisti del settore \n\n\n🎫 Vuoi partecipare come nostro ospite?Scrivici a contattaci@contecaqs.it per ricevere il biglietto gratuito e tutte le informazioni. \nTi aspettiamo al Padiglione 26 – Stand B1 per costruire insieme ambienti di lavoro più sicuri\, innovativi e orientati al benessere.
URL:https://contecaqs.it/eventi/contec-aqs-ambiente-lavoro-2025/
LOCATION:Bologna Fiere\, Piazza della Costituzione\, Bologna\, 40128\, Italy
ATTACH;FMTTYPE=image/png:https://contecaqs.it/wp-content/uploads/2025/05/Screenshot-2025-05-13-100706.png
END:VEVENT
END:VCALENDAR