BEGIN:VCALENDAR
VERSION:2.0
PRODID:-//Contec AQS - ECPv6.13.2.1//NONSGML v1.0//EN
CALSCALE:GREGORIAN
METHOD:PUBLISH
X-ORIGINAL-URL:https://contecaqs.it
X-WR-CALDESC:Eventi per Contec AQS
REFRESH-INTERVAL;VALUE=DURATION:PT1H
X-Robots-Tag:noindex
X-PUBLISHED-TTL:PT1H
BEGIN:VTIMEZONE
TZID:Europe/Rome
BEGIN:DAYLIGHT
TZOFFSETFROM:+0100
TZOFFSETTO:+0200
TZNAME:CEST
DTSTART:20250330T010000
END:DAYLIGHT
BEGIN:STANDARD
TZOFFSETFROM:+0200
TZOFFSETTO:+0100
TZNAME:CET
DTSTART:20251026T010000
END:STANDARD
END:VTIMEZONE
BEGIN:VEVENT
DTSTART;TZID=Europe/Rome:20250302T080000
DTEND;TZID=Europe/Rome:20250304T170000
DTSTAMP:20260422T005251
CREATED:20250203T160945Z
LAST-MODIFIED:20250203T160945Z
UID:18872-1740902400-1741107600@contecaqs.it
SUMMARY:Contec AQS al Richmond HSE Forum Winter 2025
DESCRIPTION:Contec AQS parteciperà come exhibitor al “Richmond HSE Forum Winter”\, in programma dal 2 al 4 marzo 2025 presso il Grand Hotel di Rimini. \nQuesto evento esclusivo riunisce professionisti del settore Salute\, Sicurezza e Ambiente (HSE) per promuovere il confronto tra domanda e offerta\, esplorare le ultime novità del settore e creare nuove opportunità di networking. \nDurante il Richmond HSE Forum Winter\, i partecipanti potranno prendere parte a sessioni formative di alto livello\, condividere esperienze con altri esperti del settore e interagire con fornitori specializzati in soluzioni avanzate per la sicurezza e la protezione dell’ambiente. Un’occasione imperdibile per approfondire tematiche chiave e rimanere aggiornati sulle sfide e le innovazioni nel mondo HSE. \nSeguiranno maggiori dettagli sui nostri canali social! \nDestinatari: HSE e QHSE Director\, gli RSPP\, Safety Manager
URL:https://contecaqs.it/eventi/richmond-hse-forum-winter/
LOCATION:Rimini GRAND HOTEL\, Parco federico Fellini 1\, Rimini\, RN\, 47921\, Italy
CATEGORIES:Convegni e Webinar
ATTACH;FMTTYPE=image/png:https://contecaqs.it/wp-content/uploads/2025/02/RICHMOND_HSE-FORUM-WINTER-e1738597524262.png
END:VEVENT
END:VCALENDAR