BEGIN:VCALENDAR
VERSION:2.0
PRODID:-//Contec AQS - ECPv6.13.2.1//NONSGML v1.0//EN
CALSCALE:GREGORIAN
METHOD:PUBLISH
X-WR-CALNAME:Contec AQS
X-ORIGINAL-URL:https://contecaqs.it
X-WR-CALDESC:Eventi per Contec AQS
REFRESH-INTERVAL;VALUE=DURATION:PT1H
X-Robots-Tag:noindex
X-PUBLISHED-TTL:PT1H
BEGIN:VTIMEZONE
TZID:Europe/Rome
BEGIN:DAYLIGHT
TZOFFSETFROM:+0100
TZOFFSETTO:+0200
TZNAME:CEST
DTSTART:20250330T010000
END:DAYLIGHT
BEGIN:STANDARD
TZOFFSETFROM:+0200
TZOFFSETTO:+0100
TZNAME:CET
DTSTART:20251026T010000
END:STANDARD
END:VTIMEZONE
BEGIN:VEVENT
DTSTART;TZID=Europe/Rome:20250220T080000
DTEND;TZID=Europe/Rome:20250221T170000
DTSTAMP:20260422T021729
CREATED:20250116T132718Z
LAST-MODIFIED:20250203T162354Z
UID:18479-1740038400-1740157200@contecaqs.it
SUMMARY:SIKURA MEETING 2024
DESCRIPTION:  \n  \n  \n  \n  \n  \n  \n  \n  \n  \n  \nSIKURA MEETING 2025 \nIl 20 e 21 febbraio 2025\, Contec AQS parteciperà al SIKURA MEETING 2025\, l’evento di riferimento per i professionisti della sicurezza e della tutela nei luoghi di lavoro. Si tratta di un’occasione unica dedicata ai Direttori HSE e RSPP delle grandi industrie\, che consente di entrare in contatto diretto e mirato con le società leader nel mondo della sicurezza. \nDurante l’evento\, Contec AQS sarà presente per offrire competenze e soluzioni innovative su: \n\nConsulenza\, coordinamento e formazione per la gestione della tutela\, salute e sicurezza nei luoghi di lavoro;\nSistemi di gestione qualità\, ambiente e sicurezza\, inclusi sistemi integrati.\n\nLa nostra partecipazione offrirà spunti pratici e soluzioni competitive per supportare le aziende nella gestione efficace della sicurezza e nella conformità normativa. \nUn’occasione di aggiornamento e networking\nIl SIKURA MEETING non è solo un’opportunità per incontrare esperti del settore\, ma anche un momento di crescita professionale. L’evento prevede sessioni convegnistiche formative su tematiche di estrema attualità\, pensate per fornire ai partecipanti un aggiornamento tecnico di alto livello e ispirare nuove strategie operative. \nTi aspettiamo al SIKURA MEETING 2025! \n 
URL:https://contecaqs.it/eventi/sikura-meeting-2024/
LOCATION:PALACE HOTEL\, Viale F. Agello\, 114A\, Desenzano del Garda BS\, ITALIA\, 25015\, Italy
CATEGORIES:Convegni e Webinar
ATTACH;FMTTYPE=image/png:https://contecaqs.it/wp-content/uploads/2025/01/Sikura-Meeting-logo-e1738599777821.png
END:VEVENT
END:VCALENDAR