BEGIN:VCALENDAR
VERSION:2.0
PRODID:-//Contec AQS - ECPv6.13.2.1//NONSGML v1.0//EN
CALSCALE:GREGORIAN
METHOD:PUBLISH
X-ORIGINAL-URL:https://contecaqs.it
X-WR-CALDESC:Eventi per Contec AQS
REFRESH-INTERVAL;VALUE=DURATION:PT1H
X-Robots-Tag:noindex
X-PUBLISHED-TTL:PT1H
BEGIN:VTIMEZONE
TZID:Europe/Rome
BEGIN:DAYLIGHT
TZOFFSETFROM:+0100
TZOFFSETTO:+0200
TZNAME:CEST
DTSTART:20250330T010000
END:DAYLIGHT
BEGIN:STANDARD
TZOFFSETFROM:+0200
TZOFFSETTO:+0100
TZNAME:CET
DTSTART:20251026T010000
END:STANDARD
END:VTIMEZONE
BEGIN:VEVENT
DTSTART;TZID=Europe/Rome:20250918T113000
DTEND;TZID=Europe/Rome:20250918T130000
DTSTAMP:20260421T205828
CREATED:20250429T101945Z
LAST-MODIFIED:20250919T081217Z
UID:21018-1758195000-1758200400@contecaqs.it
SUMMARY:Webinar AQS Solutions - L'importanza delle competenze non tecniche per la sicurezza del lavoro. Il ruolo dell'organizzazione aziendale
DESCRIPTION:Soft skills e sicurezza: il valore della comunicazione e della leadership\nLe competenze non tecniche sono fondamentali per prevenire incidenti e migliorare la gestione della sicurezza sul lavoro. Il webinar affronta il ruolo delle soft skills nella sicurezza aziendale\, con un focus su leadership\, problem-solving e lavoro di squadra. \nVerrà proposta un’attività pratica – “La Torre degli Spaghetti” – per dimostrare l’importanza della collaborazione e del processo decisionale in situazioni critiche. \nInterviene l’ Ing. Francesco Gallo – Formatore Esperto in Salute e Sicurezza sul Lavoro \nOrario: 11.30-13.00 \nCompila il form per avere accesso alla registrazione \n\n\n                \n                        \n                            Contatti\n                             \n							"*" indica i campi obbligatori \n                        \n                        Nome e Cognome*\n                            \n                            \n                                                    \n                                                    Nome\n                                                \n                            \n                            \n                                                    \n                                                    Cognome\n                                                \n                            \n                        AziendaEmail*\n                            \n                        Messaggio*Privacy* Dichiaro di aver letto e di accettare l'Informativa sulla Privacy*Come possiamo trattare i tuoi dati?*\n			\n					\n					Acconsento al trattamento dei miei dati personali per le finalità di marketing da parte delle società del Gruppo Bureau Veritas\n			\n			\n					\n					Acconsento al trattamento dei miei dati personali per le finalità di marketing solo da parte di Contec AQS\n			\n			\n					\n					Non acconsento al trattamento dei miei dati personali per le finalità di marketing
URL:https://contecaqs.it/eventi/webinar-aqs-solutions-limportanza-delle-competenze-non-tecniche-per-la-sicurezza-del-lavoro/
LOCATION:Online
CATEGORIES:Convegni e Webinar
ATTACH;FMTTYPE=image/jpeg:https://contecaqs.it/wp-content/uploads/2025/03/unrecognizable-male-construction-industry-executive-posing-33-scaled.jpg
END:VEVENT
BEGIN:VEVENT
DTSTART;TZID=Europe/Rome:20251022T083000
DTEND;TZID=Europe/Rome:20251022T123000
DTSTAMP:20260421T205828
CREATED:20250923T132519Z
LAST-MODIFIED:20251028T082857Z
UID:22941-1761121800-1761136200@contecaqs.it
SUMMARY:SAFETY DAY | Treviso 22 ottobre 2025 : Verso una Cultura della Sicurezza
DESCRIPTION:Il 22 ottobre si terrà presso Villa Fiorita (TV) una nuova edizione del Safety Day\, un evento formativo\, riconosciuto da AIFOS con 4 crediti formativi\, pensato per approfondire tematiche chiave legate alla sicurezza aziendale. \nIn un contesto in cui le normative evolvono e le aziende sono chiamate a garantire ambienti di lavoro sempre più sicuri e conformi\, il Safety Day rappresenta un’opportunità concreta per aggiornarsi e confrontarsi su aspetti cruciali come la viabilità interna aziendale e le novità introdotte dall’Accordo Stato-Regioni in materia di formazione. \nDurante l’evento\, verranno presentati casi studio reali e si alterneranno gli interventi di esperti HSE che offriranno spunti pratici e strategie applicabili per migliorare la gestione della sicurezza in azienda. \nL’incontro ha l’obiettivo di fornire ai partecipanti strumenti utili per: \n\nComprendere le implicazioni normative e operative delle nuove disposizioni.\nIntegrare la sicurezza nei processi aziendali in modo efficace.\nFavorire una cultura della prevenzione e della responsabilità condivisa.\n\n  \nPROGRAMMA \n08.30 –  Welcome coffee \n09.00 – “Sicurezza della Viabilità: Analisi\, Responsabilità e Soluzioni”\nMetodi e soluzioni operative per una mobilità sicura all’interno dell’azienda\nCase History Mitsubishi Electric \n\nFrancesco Marella\, HSE Manager – Mitsubishi Electric Hydronics & IT Cooling Systems\nGuglielmo Frare\, Safety Technical Specialist\, Project Coordinator & RSPP – Contec Aqs\n\n11.00 – “Nuovo Accordo Stato-Regioni: La Strada Verso una Formazione più Efficace”\nDalla gestione dei nuovi corsi al controllo della formazione\, fino alla verifica della sua efficacia nel tempo \n\nFederico Palombarini\, Esperto in formazione/coaching – Contec Aqs\nDavide Bonan\, Safety Technical Specialist e Project Coordinator – Contec Aqs\n\n12.45 – Domande & Risposte \n13.00 – Fine lavori \n  \nLa partecipazione è gratuita\, previa iscrizione entro il 20 di Ottobre. \n  \nISCRIVITI ORA 
URL:https://contecaqs.it/eventi/safety-day-treviso-22-ottobre-2025-verso-una-cultura-della-sicurezza/
LOCATION:Villa Fiorita\, Treviso\, Italy
CATEGORIES:Convegni e Webinar
ATTACH;FMTTYPE=image/jpeg:https://contecaqs.it/wp-content/uploads/2025/09/SWE-BV_ITALY_AQS_image__10_22_SAFETY_DAY1.jpg
END:VEVENT
BEGIN:VEVENT
DTSTART;TZID=Europe/Rome:20251028T110000
DTEND;TZID=Europe/Rome:20251028T120000
DTSTAMP:20260421T205828
CREATED:20251007T081955Z
LAST-MODIFIED:20251028T082815Z
UID:23016-1761649200-1761652800@contecaqs.it
SUMMARY:WEBINAR | Gestione dei Cantieri Complessi e la convivenza tra titolo primo e titolo quarto
DESCRIPTION:Contec AQS propone un webinar gratuito dedicato alla gestione dei cantieri aziendali complessi\, con particolare attenzione agli interventi con interferenze. L’incontro offre una prospettiva integrata tra aspetti normativi\, operativi e strategici\, con un focus sull’applicazione del D.Lgs. 81/08. \nAttraverso un approccio multidisciplinare\, il webinar fornisce strumenti pratici per affrontare con competenza le sfide del coordinamento in contesti dinamici e articolati. \nDurante il webinar scoprirai:\n\nLe differenze tra appalti gestiti secondo Titolo IV e Titolo I (Art. 26 D.Lgs. 81/08)\nStrategie per la gestione di interventi in contesti complessi\nIl case history Lendlease (cantieri area MIND e Santa Giulia – Milano Cortina)\nCome analizzare e gestire le interferenze\n\n  \nLa partecipazione è gratuita previa iscrizione entro il 27 ottobre  \nAd iscrizione avvenuta ti forniremo le credenziali per accedere alla webinar room \n  \nISCRIVITI ORA \n\n\n\n\n 
URL:https://contecaqs.it/eventi/webinar-gestione-dei-cantieri-complessi/
CATEGORIES:Convegni e Webinar
ATTACH;FMTTYPE=image/jpeg:https://contecaqs.it/wp-content/uploads/2025/09/cantieri-complessi.jpg
END:VEVENT
BEGIN:VEVENT
DTSTART;TZID=Europe/Rome:20251112T140000
DTEND;TZID=Europe/Rome:20251112T180000
DTSTAMP:20260421T205828
CREATED:20251010T131355Z
LAST-MODIFIED:20251113T133650Z
UID:23037-1762956000-1762970400@contecaqs.it
SUMMARY:SEMINARIO | Formazione e Nuovo Accordo Stato-Regioni: soluzioni tecniche ed esperienziali di successo
DESCRIPTION:Il nuovo Accordo Stato-Regioni introduce importanti novità sugli obblighi formativi per le aziende\, ma al tempo stesso apre la strada a soluzioni più efficaci e coinvolgenti. L’evento si aprirà con un intrigante Safety Talk ricco di esperienze di successo legate alla Formazione comportamentale in generale e nei Cantieri in Azienda in particolare e proseguirà con un vero e proprio Processo alla Sicurezza teatrale\, con coinvolgimento della platea nella splendida cornice del Teatro di Granarolo\, a Bologna.  \nQuesto incontro sarà l’occasione per approfondire modelli di formazione tecnica e approcci esperienziali innovativi.  \nDalla cultura della sicurezza al benessere organizzativo\, dall’aula al cantiere\, fino alle metodologie più immersive del Safety Appeal: esperienze e strumenti concreti per generare comportamenti consapevoli\, prevenzione e valore condiviso.  \nL’evento formativo è riconosciuto da AIFOS con 4 crediti formativi. \n\nPROGRAMMA\n14:00 – Registrazione  e Welcome coffee \n14:40 – Apertura istituzionale Talk con conduzione con inquadramento Accordo Stato Regioni \n intervento Skills Hub e formazione a cura di  Bureau Veritas Italia con il progetto “Cultura della sicurezza” e progetto BSO \n\nSilvia Di Lorenzo – Enviroment & Safety Consulting Project Manager per Nexta\nLuigi Carrera – Behavioral Training Manager  – Skills Hub\, Bureau Veritas  \n\nintervento Contec AQS formazione nei Cantieri in azienda \n\nAndrea Marchioro\, HSE Manager –  Contec AQS \n\n16:15 – Coffee break \n16:30 – Safety Appeal – “Processo alla Sicurezza” – attività esperienziale di Contec AQS \n\nFederico Palombarini\, Safety Coach & Senior Training Consultant – Contec AQS\n\n  \nVuoi partecipare all’evento ? \nLa partecipazione è gratuita previa iscrizione entro il 10 novembre. \nISCRIVITI ORA 
URL:https://contecaqs.it/eventi/seminario-formazione-e-nuovo-accordo-stato-regioni/
LOCATION:TaG\, Teatro a Granarolo\, Via S. Donato\, 209/D\, 40057 Granarolo dell'Emilia\, Bologna
CATEGORIES:Convegni e Webinar
ATTACH;FMTTYPE=image/png:https://contecaqs.it/wp-content/uploads/2025/10/SAFEY2.png
END:VEVENT
END:VCALENDAR