BEGIN:VCALENDAR
VERSION:2.0
PRODID:-//Contec AQS - ECPv6.13.2.1//NONSGML v1.0//EN
CALSCALE:GREGORIAN
METHOD:PUBLISH
X-WR-CALNAME:Contec AQS
X-ORIGINAL-URL:https://contecaqs.it
X-WR-CALDESC:Eventi per Contec AQS
REFRESH-INTERVAL;VALUE=DURATION:PT1H
X-Robots-Tag:noindex
X-PUBLISHED-TTL:PT1H
BEGIN:VTIMEZONE
TZID:Europe/Rome
BEGIN:DAYLIGHT
TZOFFSETFROM:+0100
TZOFFSETTO:+0200
TZNAME:CEST
DTSTART:20250330T010000
END:DAYLIGHT
BEGIN:STANDARD
TZOFFSETFROM:+0200
TZOFFSETTO:+0100
TZNAME:CET
DTSTART:20251026T010000
END:STANDARD
END:VTIMEZONE
BEGIN:VEVENT
DTSTART;TZID=Europe/Rome:20251112T140000
DTEND;TZID=Europe/Rome:20251112T180000
DTSTAMP:20260421T080028
CREATED:20251010T131355Z
LAST-MODIFIED:20251113T133650Z
UID:23037-1762956000-1762970400@contecaqs.it
SUMMARY:SEMINARIO | Formazione e Nuovo Accordo Stato-Regioni: soluzioni tecniche ed esperienziali di successo
DESCRIPTION:Il nuovo Accordo Stato-Regioni introduce importanti novità sugli obblighi formativi per le aziende\, ma al tempo stesso apre la strada a soluzioni più efficaci e coinvolgenti. L’evento si aprirà con un intrigante Safety Talk ricco di esperienze di successo legate alla Formazione comportamentale in generale e nei Cantieri in Azienda in particolare e proseguirà con un vero e proprio Processo alla Sicurezza teatrale\, con coinvolgimento della platea nella splendida cornice del Teatro di Granarolo\, a Bologna.  \nQuesto incontro sarà l’occasione per approfondire modelli di formazione tecnica e approcci esperienziali innovativi.  \nDalla cultura della sicurezza al benessere organizzativo\, dall’aula al cantiere\, fino alle metodologie più immersive del Safety Appeal: esperienze e strumenti concreti per generare comportamenti consapevoli\, prevenzione e valore condiviso.  \nL’evento formativo è riconosciuto da AIFOS con 4 crediti formativi. \n\nPROGRAMMA\n14:00 – Registrazione  e Welcome coffee \n14:40 – Apertura istituzionale Talk con conduzione con inquadramento Accordo Stato Regioni \n intervento Skills Hub e formazione a cura di  Bureau Veritas Italia con il progetto “Cultura della sicurezza” e progetto BSO \n\nSilvia Di Lorenzo – Enviroment & Safety Consulting Project Manager per Nexta\nLuigi Carrera – Behavioral Training Manager  – Skills Hub\, Bureau Veritas  \n\nintervento Contec AQS formazione nei Cantieri in azienda \n\nAndrea Marchioro\, HSE Manager –  Contec AQS \n\n16:15 – Coffee break \n16:30 – Safety Appeal – “Processo alla Sicurezza” – attività esperienziale di Contec AQS \n\nFederico Palombarini\, Safety Coach & Senior Training Consultant – Contec AQS\n\n  \nVuoi partecipare all’evento ? \nLa partecipazione è gratuita previa iscrizione entro il 10 novembre. \nISCRIVITI ORA 
URL:https://contecaqs.it/eventi/seminario-formazione-e-nuovo-accordo-stato-regioni/
LOCATION:TaG\, Teatro a Granarolo\, Via S. Donato\, 209/D\, 40057 Granarolo dell'Emilia\, Bologna
CATEGORIES:Convegni e Webinar
ATTACH;FMTTYPE=image/png:https://contecaqs.it/wp-content/uploads/2025/10/SAFEY2.png
END:VEVENT
END:VCALENDAR